BEGIN:VCALENDAR
VERSION:2.0
PRODID:-//Rodeoline - ECPv6.15.20//NONSGML v1.0//EN
CALSCALE:GREGORIAN
METHOD:PUBLISH
X-ORIGINAL-URL:https://rodeoline.ch
X-WR-CALDESC:Évènements pour Rodeoline
REFRESH-INTERVAL;VALUE=DURATION:PT1H
X-Robots-Tag:noindex
X-PUBLISHED-TTL:PT1H
BEGIN:VTIMEZONE
TZID:Europe/Zurich
BEGIN:DAYLIGHT
TZOFFSETFROM:+0100
TZOFFSETTO:+0200
TZNAME:CEST
DTSTART:20250330T010000
END:DAYLIGHT
BEGIN:STANDARD
TZOFFSETFROM:+0200
TZOFFSETTO:+0100
TZNAME:CET
DTSTART:20251026T010000
END:STANDARD
BEGIN:DAYLIGHT
TZOFFSETFROM:+0100
TZOFFSETTO:+0200
TZNAME:CEST
DTSTART:20260329T010000
END:DAYLIGHT
BEGIN:STANDARD
TZOFFSETFROM:+0200
TZOFFSETTO:+0100
TZNAME:CET
DTSTART:20261025T010000
END:STANDARD
BEGIN:DAYLIGHT
TZOFFSETFROM:+0100
TZOFFSETTO:+0200
TZNAME:CEST
DTSTART:20270328T010000
END:DAYLIGHT
BEGIN:STANDARD
TZOFFSETFROM:+0200
TZOFFSETTO:+0100
TZNAME:CET
DTSTART:20271031T010000
END:STANDARD
END:VTIMEZONE
BEGIN:VEVENT
DTSTART;TZID=Europe/Zurich:20260301T080000
DTEND;TZID=Europe/Zurich:20260301T170000
DTSTAMP:20260419T173557
CREATED:20251016T075650Z
LAST-MODIFIED:20251016T075650Z
UID:33813-1772352000-1772384400@rodeoline.ch
SUMMARY:Country Day Vétroz
DESCRIPTION:
URL:https://rodeoline.ch/event/country-day-vetroz-3/
LOCATION:Salle de l’Union\, Avenue de la Gare 1\, Vétroz\, 1963\, Suisse
CATEGORIES:Après-midi
ORGANIZER;CN="Claudine Burket":MAILTO:burketclaudine@gmail.com
END:VEVENT
BEGIN:VEVENT
DTSTART;TZID=Europe/Zurich:20260321T190000
DTEND;TZID=Europe/Zurich:20260321T233000
DTSTAMP:20260419T173557
CREATED:20250715T060151Z
LAST-MODIFIED:20250715T060151Z
UID:33428-1774119600-1774135800@rodeoline.ch
SUMMARY:Soirée Country au Western-City
DESCRIPTION:
URL:https://rodeoline.ch/event/soiree-country-au-western-city/
LOCATION:Western City\, Rte des Iles 8\, Martigny\, Valais\, 1920\, Suisse
ORGANIZER;CN="Marianne Gabioud":MAILTO:gabioudmarianne@gmail.com
END:VEVENT
BEGIN:VEVENT
DTSTART;TZID=Europe/Zurich:20260328T193000
DTEND;TZID=Europe/Zurich:20260328T233000
DTSTAMP:20260419T173557
CREATED:20250730T141432Z
LAST-MODIFIED:20251012T182937Z
UID:33490-1774726200-1774740600@rodeoline.ch
SUMMARY:Country Night Bowland Martigny
DESCRIPTION:
URL:https://rodeoline.ch/event/country-dance-martigny-5/
LOCATION:https://www.bowland-martigny.ch/\, Rue des finettes 52\, Martigny\, 1950\, Switzerland
CATEGORIES:Soirée
ORGANIZER;CN="Cinthia D'Alexandro":MAILTO:infocountrycd@gmail.com
END:VEVENT
END:VCALENDAR